BEGIN:VCALENDAR
VERSION:2.0
PRODID:-//Eerie Travels - ECPv6.15.20//NONSGML v1.0//EN
CALSCALE:GREGORIAN
METHOD:PUBLISH
X-WR-CALNAME:Eerie Travels
X-ORIGINAL-URL:https://eerietravels.com
X-WR-CALDESC:Events for Eerie Travels
REFRESH-INTERVAL;VALUE=DURATION:PT1H
X-Robots-Tag:noindex
X-PUBLISHED-TTL:PT1H
BEGIN:VTIMEZONE
TZID:America/New_York
BEGIN:DAYLIGHT
TZOFFSETFROM:-0500
TZOFFSETTO:-0400
TZNAME:EDT
DTSTART:20250309T070000
END:DAYLIGHT
BEGIN:STANDARD
TZOFFSETFROM:-0400
TZOFFSETTO:-0500
TZNAME:EST
DTSTART:20251102T060000
END:STANDARD
BEGIN:DAYLIGHT
TZOFFSETFROM:-0500
TZOFFSETTO:-0400
TZNAME:EDT
DTSTART:20260308T070000
END:DAYLIGHT
BEGIN:STANDARD
TZOFFSETFROM:-0400
TZOFFSETTO:-0500
TZNAME:EST
DTSTART:20261101T060000
END:STANDARD
BEGIN:DAYLIGHT
TZOFFSETFROM:-0500
TZOFFSETTO:-0400
TZNAME:EDT
DTSTART:20270314T070000
END:DAYLIGHT
BEGIN:STANDARD
TZOFFSETFROM:-0400
TZOFFSETTO:-0500
TZNAME:EST
DTSTART:20271107T060000
END:STANDARD
END:VTIMEZONE
BEGIN:VEVENT
DTSTART;TZID=America/New_York:20260220T170000
DTEND;TZID=America/New_York:20260222T160000
DTSTAMP:20260424T154805
CREATED:20260203T050244Z
LAST-MODIFIED:20260203T050305Z
UID:956-1771606800-1771776000@eerietravels.com
SUMMARY:Atlanta Days of the Dead
DESCRIPTION:DAYS OF THE DEAD returns to ATLANTA and is bringing a full weekend of celebrity guests\, vendors\, and special events\, with it!Join us as we invade the Courtland Grand Hotel\, February 20=22 2026 for a spooky party unlike anything you’ve ever experienced!
URL:https://eerietravels.com/event/atlanta-days-of-the-dead/
LOCATION:Courtland Grand Hotel\, 165 Courtland St\,\, Atlanta\, GA\, 30303\, United States
CATEGORIES:Horror
ATTACH;FMTTYPE=image/jpeg:https://eerietravels.com/wp-content/uploads/2026/02/626859825_1416031336593652_8479081165842336921_n.jpg
END:VEVENT
BEGIN:VEVENT
DTSTART;TZID=America/New_York:20260221T100000
DTEND;TZID=America/New_York:20260221T180000
DTSTAMP:20260424T154805
CREATED:20260203T045346Z
LAST-MODIFIED:20260203T045438Z
UID:952-1771668000-1771696800@eerietravels.com
SUMMARY:WNC ComiCon
DESCRIPTION:Incredible Speakers * Comics * Toys * Cards * Games * Fan Art * Authors * Cool Vendors * Lightsabers * Gaming\nFeatured Speakers:Eerie TravelsBigfoot in Appalachia\nJessica JonesThe Cryptid Huntress\nMatt DelphBigfoot Experiencer\nWilderness Cryptid StudiesParanormal Adventures\nJohn PriceAlabama MUFON\nJames EverettThe James Everett Show\nDr. John StameyParanormal Author
URL:https://eerietravels.com/event/wnc-comicon/
LOCATION:AK Hinds University Center\, 350 Memorial Dr\, Cullowhee\, NC\, 28723\, United States
CATEGORIES:Bigfoot,Geeky
ATTACH;FMTTYPE=image/jpeg:https://eerietravels.com/wp-content/uploads/2026/02/WNCcomicon.jpg
END:VEVENT
END:VCALENDAR