BEGIN:VCALENDAR
VERSION:2.0
PRODID:-//Eerie Travels - ECPv6.15.20//NONSGML v1.0//EN
CALSCALE:GREGORIAN
METHOD:PUBLISH
X-WR-CALNAME:Eerie Travels
X-ORIGINAL-URL:https://eerietravels.com
X-WR-CALDESC:Events for Eerie Travels
REFRESH-INTERVAL;VALUE=DURATION:PT1H
X-Robots-Tag:noindex
X-PUBLISHED-TTL:PT1H
BEGIN:VTIMEZONE
TZID:America/New_York
BEGIN:DAYLIGHT
TZOFFSETFROM:-0500
TZOFFSETTO:-0400
TZNAME:EDT
DTSTART:20250309T070000
END:DAYLIGHT
BEGIN:STANDARD
TZOFFSETFROM:-0400
TZOFFSETTO:-0500
TZNAME:EST
DTSTART:20251102T060000
END:STANDARD
BEGIN:DAYLIGHT
TZOFFSETFROM:-0500
TZOFFSETTO:-0400
TZNAME:EDT
DTSTART:20260308T070000
END:DAYLIGHT
BEGIN:STANDARD
TZOFFSETFROM:-0400
TZOFFSETTO:-0500
TZNAME:EST
DTSTART:20261101T060000
END:STANDARD
BEGIN:DAYLIGHT
TZOFFSETFROM:-0500
TZOFFSETTO:-0400
TZNAME:EDT
DTSTART:20270314T070000
END:DAYLIGHT
BEGIN:STANDARD
TZOFFSETFROM:-0400
TZOFFSETTO:-0500
TZNAME:EST
DTSTART:20271107T060000
END:STANDARD
END:VTIMEZONE
BEGIN:VEVENT
DTSTART;TZID=America/New_York:20260425T110000
DTEND;TZID=America/New_York:20260425T180000
DTSTAMP:20260424T094345
CREATED:20260204T053931Z
LAST-MODIFIED:20260204T054955Z
UID:968-1777114800-1777140000@eerietravels.com
SUMMARY:Asheville Oddities & Art Market
DESCRIPTION:At Access Art\, our mission is to provide underprivileged youth with meaningful access to the arts. Through scholarships and a variety of community programs\, we work to ensure that children have the tools\, resources\, and safe spaces they need to express themselves\, build confidence\, and create freely. \nTo support and sustain this mission\, we host art focused events including our annual tattoo convention and monthly Oddities & Art Markets that celebrate unique\, expressive art forms and highlight creativity as a powerful therapeutic outlet. All proceeds from our events are reinvested directly into serving youth throughout Florida and any of our host cities. 
URL:https://eerietravels.com/event/asheville-oddities-art-market/
LOCATION:Western North Carolina Agricultural Center\, 1301 Fanning Bridge Rd.\, Fletcher\, NC\, 28732\, United States
CATEGORIES:Arts & Crafts,Oddites
ATTACH;FMTTYPE=image/png:https://eerietravels.com/wp-content/uploads/2026/02/4f6a2e_bd62a5034a024fb3927308884f5c9aa4mv2.png
END:VEVENT
BEGIN:VEVENT
DTSTART;TZID=America/New_York:20260502T080000
DTEND;TZID=America/New_York:20260503T170000
DTSTAMP:20260424T094345
CREATED:20260316T030053Z
LAST-MODIFIED:20260316T030053Z
UID:995-1777708800-1777827600@eerietravels.com
SUMMARY:Fallout Wasteland Jamboree Fan Celebration
DESCRIPTION:The world’s largest post nuclear fan celebration is coming to West Virginia for the first time! The Pioneer Saloon\, Buttered Popcorn and Fallout For Hope cordially invite you to hit the Country Roads with us for the Appalachia Wasteland! \nThe same organizers who have brought you four years of the “Mojave Mayhem“ Fan Celebration in Nevada are now bringing the party to the East Coast. Don’t risk FOMO. Tickets are available online until April 1\, 2026. \n 
URL:https://eerietravels.com/event/fallout-wasteland-jamboree-fan-celebration/
LOCATION:OH
CATEGORIES:Alien/UFO,Geeky
ATTACH;FMTTYPE=image/webp:https://eerietravels.com/wp-content/uploads/2026/03/648448383_122159287670646273_2740073674554303544_n-815x1024-1.webp
END:VEVENT
BEGIN:VEVENT
DTSTART;TZID=America/New_York:20260502T100000
DTEND;TZID=America/New_York:20260502T160000
DTSTAMP:20260424T094345
CREATED:20260316T031507Z
LAST-MODIFIED:20260316T033327Z
UID:1003-1777716000-1777737600@eerietravels.com
SUMMARY:Smoky Mountain Bigfoot Festival
DESCRIPTION:6th Annual Smoky Mountain Bigfoot Festival\n\n\n\n\nNext year\, we’re throwing the biggest birthday bash East Tennessee has ever seen — and you’re invited! The 6th Annual Smoky Mountain Bigfoot Festival is celebrating none other than the legendary creature himself with a full-day Bigfoot Birthday Bash in the heart of the Smokies. \nCome party with us as we mix Bigfoot lore with birthday fun\, festival favorites\, and a few surprises only a birthday Bigfoot could dream up! We’ll have all your favorite activities — guest speakers\, live music\, delicious food trucks\, vendors\, contests\, and more — but with a birthday twist. Think party hats\, cake-inspired treats\, birthday games\, and maybe even a surprise visit from the guest of honor himself. \nHighlights Include:\nBigfoot-themed birthday games & giveaway\nA Bigfoot-sized birthday card for fans to sign\nSpecial edition merchandise to mark the occasion\nPhoto ops with Party Sasquatch\nA sweet celebration moment — complete with cupcakes\, candles\, and confetti!
URL:https://eerietravels.com/event/smoky-mountain-bigfoot-festival/
LOCATION:Townsend Event Center\, 7930 E Lamar Alexander Pkwy\, Townsend\, TN\, 37882\, United States
CATEGORIES:Bigfoot
ATTACH;FMTTYPE=image/png:https://eerietravels.com/wp-content/uploads/2026/03/SM-BIGFOOT-FEST-LOGO_1.png
END:VEVENT
BEGIN:VEVENT
DTSTART;TZID=America/New_York:20260508T120000
DTEND;TZID=America/New_York:20260510T170000
DTSTAMP:20260424T094345
CREATED:20260316T034849Z
LAST-MODIFIED:20260316T034849Z
UID:1014-1778241600-1778432400@eerietravels.com
SUMMARY:PopCon Indy
DESCRIPTION:Where Every Fan\nFinds Their Place\n\n\nAt PopCon\, we celebrate the passion and creativity of fandom in all its forms. Whether you’re into comics\, movies\, TV shows\, gaming\, anime or many other genres PopCon offers a vibrant community where you can connect with fellow enthusiasts\, discover exclusive content\, and meet your favorite creators. Join us for an unforgettable experience filled 3-day weekend. \nAt PopCon\, every fan truly belongs.
URL:https://eerietravels.com/event/popcon-indy/
LOCATION:Indiana Convention Center\, 100 S Capitol Ave\, Indianapolis\, IN\, 46225\, United States
CATEGORIES:Geeky
ATTACH;FMTTYPE=image/jpeg:https://eerietravels.com/wp-content/uploads/2026/03/469051352_935047578721355_7476263988455491679_n.jpg
END:VEVENT
BEGIN:VEVENT
DTSTART;TZID=America/New_York:20260530T100000
DTEND;TZID=America/New_York:20260530T190000
DTSTAMP:20260424T094345
CREATED:20260316T033641Z
LAST-MODIFIED:20260316T033641Z
UID:1009-1780135200-1780167600@eerietravels.com
SUMMARY:Red River Gorge Bigfoot Fest
DESCRIPTION:ARE YOU READY FOR KENTUCKY’S LARGEST BIGFOOT FESTIVAL?\n\n\nGet ready for an unforgettable adventure\, because Kentucky’s largest Bigfoot festival is stomping back into Stanton on May 30th\, 2026!  Stanton City Park will burst with excitement\, a lively array of vendors\, mouthwatering food\, fantastic contests\, and who knows—you might even catch a glimpse of the legendary big guy himself! \nBut wait\, the fun starts early on May 29th with an exclusive VIP Dinner\, where you’ll hear from guest speakers who are true on all things squatch! \nWhat can you expect at the Fest on May 30th?• FREE presentations from world-renowned researchers• An incredible lineup of Bigfoot and cryptid-loving vendors • Delicious food trucks and entertaining performances \n• FREE family-oriented activities• A mind-bending cryptid costume contest that will leave you questioning reality• And of course some mysterious rustles in the treeline!• AND SO MUCH MORE!!!
URL:https://eerietravels.com/event/red-river-gorge-bigfoot-fest/
LOCATION:Stanton City Park\, 127 Halls Lane\, Stanton\, KY\, 40380\, United States
CATEGORIES:Bigfoot
ATTACH;FMTTYPE=image/avif:https://eerietravels.com/wp-content/uploads/2026/03/bigfoot-festival.avif
END:VEVENT
BEGIN:VEVENT
DTSTART;TZID=America/New_York:20260613T090000
DTEND;TZID=America/New_York:20260613T180000
DTSTAMP:20260424T094345
CREATED:20260316T034153Z
LAST-MODIFIED:20260316T034153Z
UID:1012-1781341200-1781373600@eerietravels.com
SUMMARY:Great Florida Bigfoot Conference
DESCRIPTION:Join us for the 6th Annual Great Florida Bigfoot Conference on June 12-13\, 2026\, at the World Equestrian Center (Expo 1) in Ocala\, Florida. \nThe Great Florida Bigfoot Conference brings together some of the most recognized voices in Sasquatch research for an unforgettable weekend in Ocala. Hosted at the World Equestrian Center\, the event features presentations from renowned investigators including Cliff Barackman\, David Paulides\, and Lyle Blackburn. Attendees can explore the vendor hall\, meet speakers\, and connect with fellow enthusiasts while diving deep into the mystery of Bigfoot sightings across the world.
URL:https://eerietravels.com/event/great-florida-bigfoot-conference-2/
LOCATION:World Equestrian Center\, 1750 NW 80th Ave\, Ocala\, FL\, 34482\, United States
CATEGORIES:Bigfoot
ATTACH;FMTTYPE=image/png:https://eerietravels.com/wp-content/uploads/2025/03/GFBC22-Conference-T-Shirt-Bigfoot-Gator.png
END:VEVENT
BEGIN:VEVENT
DTSTART;TZID=America/New_York:20260613T090000
DTEND;TZID=America/New_York:20260613T190000
DTSTAMP:20260424T094345
CREATED:20260410T183235Z
LAST-MODIFIED:20260410T183513Z
UID:1045-1781341200-1781377200@eerietravels.com
SUMMARY:Spruce Pine Alien Festival
DESCRIPTION:Join alien and UFO enthusiasts at the 4th annual Spruce Pine Alien Festival\, also known previously as the (SPACE) Festival in Downtown Spruce Pine on Oak Avenue. The Spruce Pine Alien Festival is featured as a top 30 festival event in the month of June in North Carolina by NC tripping. Last year’s Alien Festival was enjoyed by over 50 thousand avid Alien and UFO lovers trekking through Spruce Pine looking for Alien life forms and is the largest UFO/Alien Festival in North Carolina!
URL:https://eerietravels.com/event/spruce-pine-alien-festival-2/
LOCATION:Downtown Spruce Pine\, Oak Avenue\, Spruce Pine\, NC\, 28777\, United States
CATEGORIES:Alien/UFO
END:VEVENT
BEGIN:VEVENT
DTSTART;TZID=America/New_York:20260627T110000
DTEND;TZID=America/New_York:20260627T180000
DTSTAMP:20260424T094345
CREATED:20260316T035650Z
LAST-MODIFIED:20260316T035650Z
UID:1018-1782558000-1782583200@eerietravels.com
SUMMARY:Orlando Oddities and Curiosities Market
DESCRIPTION:Florida’s Largest Oddities Event\, including over 200 curated vendors\, live performances\, workshops\, and more\, all indoors and air conditioned! Presented by Orlando’s Oddities Shop\, Prometheus Esoterica!
URL:https://eerietravels.com/event/orlando-oddities-and-curiosities-market/
LOCATION:Oseola Heritage Park\, 1901 Chief Osceola Trail\, Kissimmee\, FL\, 34744\, United States
CATEGORIES:Oddites
ATTACH;FMTTYPE=image/jpeg:https://eerietravels.com/wp-content/uploads/2026/03/ebed7d3b-23f3-4d7a-8652-d14767a924da_RETINA_PORTRAIT_16_9.jpg
END:VEVENT
BEGIN:VEVENT
DTSTART;TZID=America/New_York:20260710T120000
DTEND;TZID=America/New_York:20260712T170000
DTSTAMP:20260424T094345
CREATED:20260316T040334Z
LAST-MODIFIED:20260316T040334Z
UID:1022-1783684800-1783875600@eerietravels.com
SUMMARY:Fanboy Expo Knoxville
DESCRIPTION:Don’t miss Tennessee’s Largest Pop Culture Event\, Fanboy Expo on July 10-12-2026 from the Knoxville Convention Center. Come see why over 30\,000 fans have attended our Summer events featuring Celebrity Guests\, Comic Industry Pros\, Cosplay\, Vendors\, Live Entertainment and much more!
URL:https://eerietravels.com/event/fanboy-expo-knoxville/
LOCATION:Knoxville Convention Center\, 701 Henley St\, Knoxville\, NC\, 37902\, United States
CATEGORIES:Geeky
ATTACH;FMTTYPE=image/png:https://eerietravels.com/wp-content/uploads/2026/03/KNOXFB.png
END:VEVENT
BEGIN:VEVENT
DTSTART;TZID=America/New_York:20260725T090000
DTEND;TZID=America/New_York:20260725T190000
DTSTAMP:20260424T094345
CREATED:20260316T040512Z
LAST-MODIFIED:20260316T040512Z
UID:1025-1784970000-1785006000@eerietravels.com
SUMMARY:Smoky Mountain Bigfoot Conference
DESCRIPTION:Enjoy another summer weekend with us in Gatlinburg\, TN\n\n\n\n\n\n\n\n\nGet ready for the 8th annual Smoky Mountain Bigfoot Conference\, where we have the privilege of bringing you an incredible event supported by our amazing sponsors! This conference is not just for Bigfoot enthusiasts\, but for anyone who wants to believe. Join us as we take you on a journey to unravel the mysteries of Bigfoot on stage as well as sponsors and vendors selling all kinds of Bigfoot and cryptozoology gear. So gear up and get ready to be a part of this one-of-a-kind gathering! \nDoors open at 9 am and we go until 6 pm. This event is open to the public but advance tickets are recommended before they sell out. \nJULY 25\, 2026 from 9am-7pm at the Gatlinburg Convention Center
URL:https://eerietravels.com/event/smoky-mountain-bigfoot-conference-3/
LOCATION:Gatlinburg Convention Center\, 234 Historic Nature Trail\, Gatlinburg\, TN\, 37738\, United States
CATEGORIES:Bigfoot
ATTACH;FMTTYPE=image/png:https://eerietravels.com/wp-content/uploads/2025/03/SMBC-Logo-Deep.png
END:VEVENT
BEGIN:VEVENT
DTSTART;TZID=America/New_York:20260808T110000
DTEND;TZID=America/New_York:20260809T190000
DTSTAMP:20260424T094345
CREATED:20260410T184304Z
LAST-MODIFIED:20260410T184939Z
UID:1050-1786186800-1786302000@eerietravels.com
SUMMARY:WOE World Oddities Expo- Nashville
DESCRIPTION:The World Oddities Expo is a traveling oddities festival- a peculiar paradise where weird thrives! We pride ourselves on being an all inclusive artisan and small business fueled mega-convention. We feature artists\, vendors\, performers\, educators\, and guest speakers to create a macabre and magical experience for all!
URL:https://eerietravels.com/event/woe-world-oddities-expo-nashville/
LOCATION:The Fairgrounds Nashville\, 625 Smith Ave.\, Nashville\, TN\, 37203\, United States
CATEGORIES:Oddites
ATTACH;FMTTYPE=image/png:https://eerietravels.com/wp-content/uploads/2026/04/Nashville-Event-Header-600x314-min-1.png
END:VEVENT
BEGIN:VEVENT
DTSTART;TZID=America/New_York:20260814T080000
DTEND;TZID=America/New_York:20260815T170000
DTSTAMP:20260424T094345
CREATED:20260410T184803Z
LAST-MODIFIED:20260410T184803Z
UID:1054-1786694400-1786813200@eerietravels.com
SUMMARY:The Hocking Hills Bigfoot Festival
DESCRIPTION:BeaOutdoors Hocking Hills Bigfoot Festival\nFriday\, August 14th and Saturday\, August 15th\, 2026 \nVinton County Fairgrounds in the heart of the Hocking Hills!\nDeep in the Hocking Hills\, this FREE 2 Day\, Family-Friendly FESTIVAL is moving to the Vinton County Fairgrounds\, in McArthur\, Ohio!\nWith over 200 acres to get your Squatch ON\,\nexpect More ‘BIG’ Fun for everyone!
URL:https://eerietravels.com/event/the-hocking-hills-bigfoot-festival/
LOCATION:Vinton County Fairgrounds\, 31471 OH-93\, McArthur\, OH\, 45651\, United States
CATEGORIES:Bigfoot
ATTACH;FMTTYPE=image/jpeg:https://eerietravels.com/wp-content/uploads/2026/04/607444216_912121031383165_4251462798157192195_n.jpg
END:VEVENT
BEGIN:VEVENT
DTSTART;VALUE=DATE:20260903
DTEND;VALUE=DATE:20260908
DTSTAMP:20260424T094345
CREATED:20260316T041050Z
LAST-MODIFIED:20260316T041050Z
UID:1027-1788393600-1788825599@eerietravels.com
SUMMARY:DragonCon
DESCRIPTION:Atlanta\, Georgia · Since 1987 \n\n\n\n\nDragon Con is the largest multi-media\, popular culture convention focusing on science fiction & fantasy\, gaming\, comics\, literature\, art\, music\, and film in the universe. Call us a phenomenon\, call us one of the most well attended pop-culture conventions in the country\, call us the most fan fun you can have in five days:\nDragon Con is where you want to be on Labor Day Weekend.
URL:https://eerietravels.com/event/dragoncon-2/
LOCATION:Downtown Atlanta\, 240 Peachtree St NW\, Atlanta\, GA\, 30303\, United States
CATEGORIES:Geeky,SciFi/Fantasy
ATTACH;FMTTYPE=image/png:https://eerietravels.com/wp-content/uploads/2025/03/Logo_no_backgroundSmall-300x258-1.png
END:VEVENT
BEGIN:VEVENT
DTSTART;TZID=America/New_York:20260919T080000
DTEND;TZID=America/New_York:20260920T170000
DTSTAMP:20260424T094345
CREATED:20260410T183802Z
LAST-MODIFIED:20260410T183802Z
UID:1048-1789804800-1789923600@eerietravels.com
SUMMARY:Mothman Festival
DESCRIPTION:WHAT IS MOTHMAN FESTIVAL?\n​Mothman Festival is an annual event held every third weekend in September that commemorates the 1966 Point Pleasant\, West Virginia\, Mothman sighting\, which gave birth to the infamous red-eyed winged legend. People from all over the world gather around our charming Main Street to celebrate their favorite cryptid during this one-of-a-kind event.  
URL:https://eerietravels.com/event/mothman-festival-4/
LOCATION:Mothman Museum\, 400 Main Street\, Point Pleasant\, WV\, 25550\, United States
CATEGORIES:Cryptid
END:VEVENT
END:VCALENDAR