BEGIN:VCALENDAR
VERSION:2.0
PRODID:-//Eerie Travels - ECPv6.15.20//NONSGML v1.0//EN
CALSCALE:GREGORIAN
METHOD:PUBLISH
X-WR-CALNAME:Eerie Travels
X-ORIGINAL-URL:https://eerietravels.com
X-WR-CALDESC:Events for Eerie Travels
REFRESH-INTERVAL;VALUE=DURATION:PT1H
X-Robots-Tag:noindex
X-PUBLISHED-TTL:PT1H
BEGIN:VTIMEZONE
TZID:America/New_York
BEGIN:DAYLIGHT
TZOFFSETFROM:-0500
TZOFFSETTO:-0400
TZNAME:EDT
DTSTART:20240310T070000
END:DAYLIGHT
BEGIN:STANDARD
TZOFFSETFROM:-0400
TZOFFSETTO:-0500
TZNAME:EST
DTSTART:20241103T060000
END:STANDARD
BEGIN:DAYLIGHT
TZOFFSETFROM:-0500
TZOFFSETTO:-0400
TZNAME:EDT
DTSTART:20250309T070000
END:DAYLIGHT
BEGIN:STANDARD
TZOFFSETFROM:-0400
TZOFFSETTO:-0500
TZNAME:EST
DTSTART:20251102T060000
END:STANDARD
BEGIN:DAYLIGHT
TZOFFSETFROM:-0500
TZOFFSETTO:-0400
TZNAME:EDT
DTSTART:20260308T070000
END:DAYLIGHT
BEGIN:STANDARD
TZOFFSETFROM:-0400
TZOFFSETTO:-0500
TZNAME:EST
DTSTART:20261101T060000
END:STANDARD
END:VTIMEZONE
BEGIN:VEVENT
DTSTART;VALUE=DATE:20251010
DTEND;VALUE=DATE:20251012
DTSTAMP:20260424T154939
CREATED:20250624T191019Z
LAST-MODIFIED:20250624T191019Z
UID:767-1760054400-1760227199@eerietravels.com
SUMMARY:Goatman Festival
DESCRIPTION:The Midwest’s premier cryptid and monster event taking place at the home of the legendary Pope Lick Monster. Enjoy expert cryptozoology celebrity meet and greets\, seminars\, special tours\, vendors\, movies\, music\, and so much more. There is even a haunted attraction featuring the legendary Pope Lick Monster! This is a cryptid event unlike any other you will find and it is only in Kentucky. \nGENERAL ADMISSION: FREE!\nPARKING: FREE! \n 
URL:https://eerietravels.com/event/goatman-festival/
LOCATION:Legend at Pope Lick\, 4002 S Pope Lick Rd\, Louisville\, KY\, 40299\, United States
CATEGORIES:Cryptid,Paranormal
ATTACH;FMTTYPE=image/png:https://eerietravels.com/wp-content/uploads/2025/06/header_Goatman-Festival.png
END:VEVENT
BEGIN:VEVENT
DTSTART;TZID=America/New_York:20250503T090000
DTEND;TZID=America/New_York:20250503T170000
DTSTAMP:20260424T154939
CREATED:20250420T212748Z
LAST-MODIFIED:20250420T212748Z
UID:665-1746262800-1746291600@eerietravels.com
SUMMARY:Shadows and Spirits Paracon
DESCRIPTION:
URL:https://eerietravels.com/event/shadows-and-spirits-paracon/
LOCATION:The Thomas House\, 530 E Main St\, Red Boiling Springs\, TN\, 37150\, United States
CATEGORIES:Paranormal
ATTACH;FMTTYPE=image/jpeg:https://eerietravels.com/wp-content/uploads/2025/04/481322107_122121519590621739_1374462695156755876_n.jpg
END:VEVENT
BEGIN:VEVENT
DTSTART;TZID=America/New_York:20250326T030000
DTEND;TZID=America/New_York:20250326T050000
DTSTAMP:20260424T154939
CREATED:20250326T212816Z
LAST-MODIFIED:20250326T212816Z
UID:622-1742958000-1742965200@eerietravels.com
SUMMARY:Coast to Coast AM Radio Show appearance
DESCRIPTION:On hour 3 and 4 of the show. \nIn the latter half\, sci-fi and horror author Mark Muncy shared his passion for Appalachian folklore\, cryptids\, and eerie legends surrounding the Smoky Mountains (view related illustrations). His research methodology involves collaborating with historians\, Cherokee storytellers\, and paranormal investigators\, piecing together folklore with historical facts. “The Appalachians are probably one of the darkest places on the planet\,” he stated\, highlighting the mountains’ ancient history and the haunting stories that emerge from the region. He recounted the “Lightning Lady” tale from Cades Cove\, where two brides in the same house were struck by lightning\, and delved into various entities from Cherokee mythology\, such as Spear Finger\, a shape-shifting witch known for stealing livers and the “Moon-Eyed People\,” a mysterious pale-skinned race said to live in caves. \nAnother captivating tale he shared was about the “Boojum\,” a legendary wild man or Sasquatch who was said to have lived in the Smokies. The settler version tells of a creature who dug for gems to win the love of a hotel worker named Annie\, while the Cherokee version adds depth\, with the creature trading gems for moonshine\, and wearing a hat given to him by the tribe. The discussion turned to ghost stories\, including Dark Aggie\, a terrifying entity with a skeletal face seen by many ghost hunters in the Old Gray Cemetery in Knoxville\, the haunting of Lucy from the Roaring Fork area– a hitchhiking ghost who tragically died in a fire\, and the apparition of Zelda Fitzgerald\, who reportedly wanders the grounds of a former mental health facility in Asheville.
URL:https://eerietravels.com/event/coast-to-coast-am-radio-show-appearance/
LOCATION:Online
CATEGORIES:Bigfoot,Cryptid,Paranormal
ATTACH;FMTTYPE=image/jpeg:https://eerietravels.com/wp-content/uploads/2025/03/353030865_632692762226576_680788818762640308_n.jpg
END:VEVENT
END:VCALENDAR