BEGIN:VCALENDAR
VERSION:2.0
PRODID:-//Eerie Travels - ECPv6.15.20//NONSGML v1.0//EN
CALSCALE:GREGORIAN
METHOD:PUBLISH
X-ORIGINAL-URL:https://eerietravels.com
X-WR-CALDESC:Events for Eerie Travels
REFRESH-INTERVAL;VALUE=DURATION:PT1H
X-Robots-Tag:noindex
X-PUBLISHED-TTL:PT1H
BEGIN:VTIMEZONE
TZID:America/New_York
BEGIN:DAYLIGHT
TZOFFSETFROM:-0500
TZOFFSETTO:-0400
TZNAME:EDT
DTSTART:20240310T070000
END:DAYLIGHT
BEGIN:STANDARD
TZOFFSETFROM:-0400
TZOFFSETTO:-0500
TZNAME:EST
DTSTART:20241103T060000
END:STANDARD
BEGIN:DAYLIGHT
TZOFFSETFROM:-0500
TZOFFSETTO:-0400
TZNAME:EDT
DTSTART:20250309T070000
END:DAYLIGHT
BEGIN:STANDARD
TZOFFSETFROM:-0400
TZOFFSETTO:-0500
TZNAME:EST
DTSTART:20251102T060000
END:STANDARD
BEGIN:DAYLIGHT
TZOFFSETFROM:-0500
TZOFFSETTO:-0400
TZNAME:EDT
DTSTART:20260308T070000
END:DAYLIGHT
BEGIN:STANDARD
TZOFFSETFROM:-0400
TZOFFSETTO:-0500
TZNAME:EST
DTSTART:20261101T060000
END:STANDARD
BEGIN:DAYLIGHT
TZOFFSETFROM:-0500
TZOFFSETTO:-0400
TZNAME:EDT
DTSTART:20270314T070000
END:DAYLIGHT
BEGIN:STANDARD
TZOFFSETFROM:-0400
TZOFFSETTO:-0500
TZNAME:EST
DTSTART:20271107T060000
END:STANDARD
END:VTIMEZONE
BEGIN:VEVENT
DTSTART;TZID=America/New_York:20260307T093000
DTEND;TZID=America/New_York:20260307T173000
DTSTAMP:20260424T155054
CREATED:20260204T051625Z
LAST-MODIFIED:20260204T051625Z
UID:960-1772875800-1772904600@eerietravels.com
SUMMARY:Frogman Festival
DESCRIPTION:Join us for The Official Frogman Festival\n\n\n\n\nCelebrate the legend of the Loveland Frogman with a fun-filled day for all ages! \nEnjoy unique vendors\, engaging speakers\, and activities for the whole family.  \nWhether you’re a cryptid enthusiast or just curious\, there’s something for everyone!
URL:https://eerietravels.com/event/frogman-festival-3/
LOCATION:Oasis Conference Center\, 902 Loveland-Miamiville Rd.\, Loveland\, OH\, 45140\, United States
CATEGORIES:Cryptid
ATTACH;FMTTYPE=image/webp:https://eerietravels.com/wp-content/uploads/2026/02/frog-cover-cc-74b37c0.webp
END:VEVENT
BEGIN:VEVENT
DTSTART;TZID=America/New_York:20251122T100000
DTEND;TZID=America/New_York:20251123T170000
DTSTAMP:20260424T155054
CREATED:20250326T035917Z
LAST-MODIFIED:20250326T035917Z
UID:608-1763805600-1763917200@eerietravels.com
SUMMARY:Cryptid Con
DESCRIPTION:Cryptid Con is a weekend-long adventure for all you cryptID enthusiasts! Meet television personalities. Learn from seasoned researchers. Shop from unique vendors. Network with others in search of elusive creatures. Two full days of mysterious mayhem!
URL:https://eerietravels.com/event/cryptid-con/
LOCATION:CLARION CONFERENCE CENTER\, 1950 Newtown Pike\, Lexington\, KY\, 40511\, United States
CATEGORIES:Cryptid
ATTACH;FMTTYPE=image/jpeg:https://eerietravels.com/wp-content/uploads/2025/03/481279646_663916909317992_5265221912084483582_n.jpg
END:VEVENT
BEGIN:VEVENT
DTSTART;TZID=America/New_York:20251018T080000
DTEND;TZID=America/New_York:20251018T170000
DTSTAMP:20260424T155054
CREATED:20250420T221357Z
LAST-MODIFIED:20250420T221357Z
UID:684-1760774400-1760806800@eerietravels.com
SUMMARY:Green Eyes Festival
DESCRIPTION:The Green Eyes Festival is a cryptid and fall festival that honors the folklore and culture of Northwest Georgia/Southeast Tennessee located in Chickamauga\, a beautiful small town in Northwest Georgia famed for its southern charm\, friendly locals\, and scenic sights. \nCome celebrate the rich folklore and traditions of Chickamauga with us at the Green Eyes Festival\, featuring talented local vendors\, musicians\, and much more to come!
URL:https://eerietravels.com/event/green-eyes-festival/
LOCATION:Downtown Chickamauga\, Chickamauga\, GA\, 30707\, United States
CATEGORIES:Cryptid
ATTACH;FMTTYPE=image/jpeg:https://eerietravels.com/wp-content/uploads/2025/04/391686624_993933168363570_681215424158453401_n.jpg
END:VEVENT
BEGIN:VEVENT
DTSTART;VALUE=DATE:20251010
DTEND;VALUE=DATE:20251012
DTSTAMP:20260424T155054
CREATED:20250624T191019Z
LAST-MODIFIED:20250624T191019Z
UID:767-1760054400-1760227199@eerietravels.com
SUMMARY:Goatman Festival
DESCRIPTION:The Midwest’s premier cryptid and monster event taking place at the home of the legendary Pope Lick Monster. Enjoy expert cryptozoology celebrity meet and greets\, seminars\, special tours\, vendors\, movies\, music\, and so much more. There is even a haunted attraction featuring the legendary Pope Lick Monster! This is a cryptid event unlike any other you will find and it is only in Kentucky. \nGENERAL ADMISSION: FREE!\nPARKING: FREE! \n 
URL:https://eerietravels.com/event/goatman-festival/
LOCATION:Legend at Pope Lick\, 4002 S Pope Lick Rd\, Louisville\, KY\, 40299\, United States
CATEGORIES:Cryptid,Paranormal
ATTACH;FMTTYPE=image/png:https://eerietravels.com/wp-content/uploads/2025/06/header_Goatman-Festival.png
END:VEVENT
BEGIN:VEVENT
DTSTART;TZID=America/New_York:20250920T080000
DTEND;TZID=America/New_York:20250921T170000
DTSTAMP:20260424T155054
CREATED:20250326T030226Z
LAST-MODIFIED:20250326T030226Z
UID:600-1758355200-1758474000@eerietravels.com
SUMMARY:Mothman Festival
DESCRIPTION:CELEBRATE THE LEGEND\nWHAT IS MOTHMAN FESTIVAL?\n​Mothman Festival is an annual event held every third weekend in September that commemorates the 1966 Point Pleasant\, West Virginia\, Mothman sighting\, which gave birth to the infamous red-eyed winged legend. People from all over the world gather around our charming Main Street to celebrate their favorite cryptid during this one-of-a-kind event.
URL:https://eerietravels.com/event/mothman-festival-3/
LOCATION:Main Street\, 400 MAIN ST\, Point Pleasant\, WV\, 25550\, United States
CATEGORIES:Cryptid
ATTACH;FMTTYPE=image/jpeg:https://eerietravels.com/wp-content/uploads/2025/03/481661450_1050649600424693_3444935780062654146_n.jpg
END:VEVENT
BEGIN:VEVENT
DTSTART;TZID=America/New_York:20250816T090000
DTEND;TZID=America/New_York:20250816T190000
DTSTAMP:20260424T155054
CREATED:20250420T215514Z
LAST-MODIFIED:20250624T184901Z
UID:677-1755334800-1755370800@eerietravels.com
SUMMARY:TN Wildman and Cryptid Con
DESCRIPTION:Join us\, Saturday\, August 16th 2025 for a day of Guest Speakers and Experiencers on many varied cryptid topics – ranging from Bigfoot to Dogman to UFOs and more\, as well as our expansive Vendor Hall where you’ll be able to find all the Bigfoot and Cryptid related merchandise for your wants and needs!
URL:https://eerietravels.com/event/tn-wildman-and-cryptid-con/
LOCATION:Milner Recreation Center\, 500 Garfield Street\, McMinnville\, TN\, 37110\, United States
CATEGORIES:Bigfoot,Cryptid
ATTACH;FMTTYPE=image/jpeg:https://eerietravels.com/wp-content/uploads/2025/04/https___cdn.evbuc_.com_images_910292673_1318191507163_1_original-1-copy.jpg
END:VEVENT
BEGIN:VEVENT
DTSTART;TZID=America/New_York:20250613T170000
DTEND;TZID=America/New_York:20250614T220000
DTSTAMP:20260424T155054
CREATED:20250329T171759Z
LAST-MODIFIED:20250329T171759Z
UID:641-1749834000-1749938400@eerietravels.com
SUMMARY:Grafton Monster Festival
DESCRIPTION:The 2nd Annual Festival to celebrate all things Grafton Monster\, featuring movies\, music\, speakers\, vendors\, and more.
URL:https://eerietravels.com/event/grafton-monster-festival-2/
LOCATION:Grafton Downtown Commercial Historic District\, Grafton Downtown Commercial Historic District\, Grafton\, WV\, United States
CATEGORIES:Cryptid
ATTACH;FMTTYPE=image/jpeg:https://eerietravels.com/wp-content/uploads/2025/03/453194864_10113282322735819_7147982284875806617_n.jpg
END:VEVENT
BEGIN:VEVENT
DTSTART;TZID=America/New_York:20250326T030000
DTEND;TZID=America/New_York:20250326T050000
DTSTAMP:20260424T155054
CREATED:20250326T212816Z
LAST-MODIFIED:20250326T212816Z
UID:622-1742958000-1742965200@eerietravels.com
SUMMARY:Coast to Coast AM Radio Show appearance
DESCRIPTION:On hour 3 and 4 of the show. \nIn the latter half\, sci-fi and horror author Mark Muncy shared his passion for Appalachian folklore\, cryptids\, and eerie legends surrounding the Smoky Mountains (view related illustrations). His research methodology involves collaborating with historians\, Cherokee storytellers\, and paranormal investigators\, piecing together folklore with historical facts. “The Appalachians are probably one of the darkest places on the planet\,” he stated\, highlighting the mountains’ ancient history and the haunting stories that emerge from the region. He recounted the “Lightning Lady” tale from Cades Cove\, where two brides in the same house were struck by lightning\, and delved into various entities from Cherokee mythology\, such as Spear Finger\, a shape-shifting witch known for stealing livers and the “Moon-Eyed People\,” a mysterious pale-skinned race said to live in caves. \nAnother captivating tale he shared was about the “Boojum\,” a legendary wild man or Sasquatch who was said to have lived in the Smokies. The settler version tells of a creature who dug for gems to win the love of a hotel worker named Annie\, while the Cherokee version adds depth\, with the creature trading gems for moonshine\, and wearing a hat given to him by the tribe. The discussion turned to ghost stories\, including Dark Aggie\, a terrifying entity with a skeletal face seen by many ghost hunters in the Old Gray Cemetery in Knoxville\, the haunting of Lucy from the Roaring Fork area– a hitchhiking ghost who tragically died in a fire\, and the apparition of Zelda Fitzgerald\, who reportedly wanders the grounds of a former mental health facility in Asheville.
URL:https://eerietravels.com/event/coast-to-coast-am-radio-show-appearance/
LOCATION:Online
CATEGORIES:Bigfoot,Cryptid,Paranormal
ATTACH;FMTTYPE=image/jpeg:https://eerietravels.com/wp-content/uploads/2025/03/353030865_632692762226576_680788818762640308_n.jpg
END:VEVENT
BEGIN:VEVENT
DTSTART;TZID=America/New_York:20250301T090000
DTEND;TZID=America/New_York:20250302T170000
DTSTAMP:20260424T155054
CREATED:20250329T165104Z
LAST-MODIFIED:20250329T165352Z
UID:629-1740819600-1740934800@eerietravels.com
SUMMARY:Frogman Festival
DESCRIPTION:The original Frogman Festival continues in its 3rd year celebrating the legend of Frogman and other cryptids and legends in our region and beyond. Speakers from near and far including professors\, authors and storytellers will present their research and passion. Vendors who all create their own art\, merch and content will be set up in the giant ballroom we call The Terrarium. And the Frogman Parade will be back to bring together everyone who would like to participate.
URL:https://eerietravels.com/event/frogman-festival-2/
LOCATION:Oasis Conference Center\, 902 Loveland-Miamiville Rd.\, Loveland\, OH\, 45140\, United States
CATEGORIES:Cryptid
ATTACH;FMTTYPE=image/jpeg:https://eerietravels.com/wp-content/uploads/2025/03/482090751_122210662016241006_4871280552764370658_n-copy.jpg
END:VEVENT
END:VCALENDAR