BEGIN:VCALENDAR
VERSION:2.0
PRODID:-//Eerie Travels - ECPv6.15.20//NONSGML v1.0//EN
CALSCALE:GREGORIAN
METHOD:PUBLISH
X-ORIGINAL-URL:https://eerietravels.com
X-WR-CALDESC:Events for Eerie Travels
REFRESH-INTERVAL;VALUE=DURATION:PT1H
X-Robots-Tag:noindex
X-PUBLISHED-TTL:PT1H
BEGIN:VTIMEZONE
TZID:America/New_York
BEGIN:DAYLIGHT
TZOFFSETFROM:-0500
TZOFFSETTO:-0400
TZNAME:EDT
DTSTART:20250309T070000
END:DAYLIGHT
BEGIN:STANDARD
TZOFFSETFROM:-0400
TZOFFSETTO:-0500
TZNAME:EST
DTSTART:20251102T060000
END:STANDARD
BEGIN:DAYLIGHT
TZOFFSETFROM:-0500
TZOFFSETTO:-0400
TZNAME:EDT
DTSTART:20260308T070000
END:DAYLIGHT
BEGIN:STANDARD
TZOFFSETFROM:-0400
TZOFFSETTO:-0500
TZNAME:EST
DTSTART:20261101T060000
END:STANDARD
BEGIN:DAYLIGHT
TZOFFSETFROM:-0500
TZOFFSETTO:-0400
TZNAME:EDT
DTSTART:20270314T070000
END:DAYLIGHT
BEGIN:STANDARD
TZOFFSETFROM:-0400
TZOFFSETTO:-0500
TZNAME:EST
DTSTART:20271107T060000
END:STANDARD
END:VTIMEZONE
BEGIN:VEVENT
DTSTART;TZID=America/New_York:20260502T100000
DTEND;TZID=America/New_York:20260502T160000
DTSTAMP:20260424T122603
CREATED:20260316T031507Z
LAST-MODIFIED:20260316T033327Z
UID:1003-1777716000-1777737600@eerietravels.com
SUMMARY:Smoky Mountain Bigfoot Festival
DESCRIPTION:6th Annual Smoky Mountain Bigfoot Festival\n\n\n\n\nNext year\, we’re throwing the biggest birthday bash East Tennessee has ever seen — and you’re invited! The 6th Annual Smoky Mountain Bigfoot Festival is celebrating none other than the legendary creature himself with a full-day Bigfoot Birthday Bash in the heart of the Smokies. \nCome party with us as we mix Bigfoot lore with birthday fun\, festival favorites\, and a few surprises only a birthday Bigfoot could dream up! We’ll have all your favorite activities — guest speakers\, live music\, delicious food trucks\, vendors\, contests\, and more — but with a birthday twist. Think party hats\, cake-inspired treats\, birthday games\, and maybe even a surprise visit from the guest of honor himself. \nHighlights Include:\nBigfoot-themed birthday games & giveaway\nA Bigfoot-sized birthday card for fans to sign\nSpecial edition merchandise to mark the occasion\nPhoto ops with Party Sasquatch\nA sweet celebration moment — complete with cupcakes\, candles\, and confetti!
URL:https://eerietravels.com/event/smoky-mountain-bigfoot-festival/
LOCATION:Townsend Event Center\, 7930 E Lamar Alexander Pkwy\, Townsend\, TN\, 37882\, United States
CATEGORIES:Bigfoot
ATTACH;FMTTYPE=image/png:https://eerietravels.com/wp-content/uploads/2026/03/SM-BIGFOOT-FEST-LOGO_1.png
END:VEVENT
BEGIN:VEVENT
DTSTART;TZID=America/New_York:20260530T100000
DTEND;TZID=America/New_York:20260530T190000
DTSTAMP:20260424T122603
CREATED:20260316T033641Z
LAST-MODIFIED:20260316T033641Z
UID:1009-1780135200-1780167600@eerietravels.com
SUMMARY:Red River Gorge Bigfoot Fest
DESCRIPTION:ARE YOU READY FOR KENTUCKY’S LARGEST BIGFOOT FESTIVAL?\n\n\nGet ready for an unforgettable adventure\, because Kentucky’s largest Bigfoot festival is stomping back into Stanton on May 30th\, 2026!  Stanton City Park will burst with excitement\, a lively array of vendors\, mouthwatering food\, fantastic contests\, and who knows—you might even catch a glimpse of the legendary big guy himself! \nBut wait\, the fun starts early on May 29th with an exclusive VIP Dinner\, where you’ll hear from guest speakers who are true on all things squatch! \nWhat can you expect at the Fest on May 30th?• FREE presentations from world-renowned researchers• An incredible lineup of Bigfoot and cryptid-loving vendors • Delicious food trucks and entertaining performances \n• FREE family-oriented activities• A mind-bending cryptid costume contest that will leave you questioning reality• And of course some mysterious rustles in the treeline!• AND SO MUCH MORE!!!
URL:https://eerietravels.com/event/red-river-gorge-bigfoot-fest/
LOCATION:Stanton City Park\, 127 Halls Lane\, Stanton\, KY\, 40380\, United States
CATEGORIES:Bigfoot
ATTACH;FMTTYPE=image/avif:https://eerietravels.com/wp-content/uploads/2026/03/bigfoot-festival.avif
END:VEVENT
BEGIN:VEVENT
DTSTART;TZID=America/New_York:20260613T090000
DTEND;TZID=America/New_York:20260613T180000
DTSTAMP:20260424T122603
CREATED:20260316T034153Z
LAST-MODIFIED:20260316T034153Z
UID:1012-1781341200-1781373600@eerietravels.com
SUMMARY:Great Florida Bigfoot Conference
DESCRIPTION:Join us for the 6th Annual Great Florida Bigfoot Conference on June 12-13\, 2026\, at the World Equestrian Center (Expo 1) in Ocala\, Florida. \nThe Great Florida Bigfoot Conference brings together some of the most recognized voices in Sasquatch research for an unforgettable weekend in Ocala. Hosted at the World Equestrian Center\, the event features presentations from renowned investigators including Cliff Barackman\, David Paulides\, and Lyle Blackburn. Attendees can explore the vendor hall\, meet speakers\, and connect with fellow enthusiasts while diving deep into the mystery of Bigfoot sightings across the world.
URL:https://eerietravels.com/event/great-florida-bigfoot-conference-2/
LOCATION:World Equestrian Center\, 1750 NW 80th Ave\, Ocala\, FL\, 34482\, United States
CATEGORIES:Bigfoot
ATTACH;FMTTYPE=image/png:https://eerietravels.com/wp-content/uploads/2025/03/GFBC22-Conference-T-Shirt-Bigfoot-Gator.png
END:VEVENT
BEGIN:VEVENT
DTSTART;TZID=America/New_York:20260725T090000
DTEND;TZID=America/New_York:20260725T190000
DTSTAMP:20260424T122603
CREATED:20260316T040512Z
LAST-MODIFIED:20260316T040512Z
UID:1025-1784970000-1785006000@eerietravels.com
SUMMARY:Smoky Mountain Bigfoot Conference
DESCRIPTION:Enjoy another summer weekend with us in Gatlinburg\, TN\n\n\n\n\n\n\n\n\nGet ready for the 8th annual Smoky Mountain Bigfoot Conference\, where we have the privilege of bringing you an incredible event supported by our amazing sponsors! This conference is not just for Bigfoot enthusiasts\, but for anyone who wants to believe. Join us as we take you on a journey to unravel the mysteries of Bigfoot on stage as well as sponsors and vendors selling all kinds of Bigfoot and cryptozoology gear. So gear up and get ready to be a part of this one-of-a-kind gathering! \nDoors open at 9 am and we go until 6 pm. This event is open to the public but advance tickets are recommended before they sell out. \nJULY 25\, 2026 from 9am-7pm at the Gatlinburg Convention Center
URL:https://eerietravels.com/event/smoky-mountain-bigfoot-conference-3/
LOCATION:Gatlinburg Convention Center\, 234 Historic Nature Trail\, Gatlinburg\, TN\, 37738\, United States
CATEGORIES:Bigfoot
ATTACH;FMTTYPE=image/png:https://eerietravels.com/wp-content/uploads/2025/03/SMBC-Logo-Deep.png
END:VEVENT
BEGIN:VEVENT
DTSTART;TZID=America/New_York:20260814T080000
DTEND;TZID=America/New_York:20260815T170000
DTSTAMP:20260424T122603
CREATED:20260410T184803Z
LAST-MODIFIED:20260410T184803Z
UID:1054-1786694400-1786813200@eerietravels.com
SUMMARY:The Hocking Hills Bigfoot Festival
DESCRIPTION:BeaOutdoors Hocking Hills Bigfoot Festival\nFriday\, August 14th and Saturday\, August 15th\, 2026 \nVinton County Fairgrounds in the heart of the Hocking Hills!\nDeep in the Hocking Hills\, this FREE 2 Day\, Family-Friendly FESTIVAL is moving to the Vinton County Fairgrounds\, in McArthur\, Ohio!\nWith over 200 acres to get your Squatch ON\,\nexpect More ‘BIG’ Fun for everyone!
URL:https://eerietravels.com/event/the-hocking-hills-bigfoot-festival/
LOCATION:Vinton County Fairgrounds\, 31471 OH-93\, McArthur\, OH\, 45651\, United States
CATEGORIES:Bigfoot
ATTACH;FMTTYPE=image/jpeg:https://eerietravels.com/wp-content/uploads/2026/04/607444216_912121031383165_4251462798157192195_n.jpg
END:VEVENT
END:VCALENDAR