BEGIN:VCALENDAR
VERSION:2.0
PRODID:-//Eerie Travels - ECPv6.15.20//NONSGML v1.0//EN
CALSCALE:GREGORIAN
METHOD:PUBLISH
X-ORIGINAL-URL:https://eerietravels.com
X-WR-CALDESC:Events for Eerie Travels
REFRESH-INTERVAL;VALUE=DURATION:PT1H
X-Robots-Tag:noindex
X-PUBLISHED-TTL:PT1H
BEGIN:VTIMEZONE
TZID:America/New_York
BEGIN:DAYLIGHT
TZOFFSETFROM:-0500
TZOFFSETTO:-0400
TZNAME:EDT
DTSTART:20240310T070000
END:DAYLIGHT
BEGIN:STANDARD
TZOFFSETFROM:-0400
TZOFFSETTO:-0500
TZNAME:EST
DTSTART:20241103T060000
END:STANDARD
BEGIN:DAYLIGHT
TZOFFSETFROM:-0500
TZOFFSETTO:-0400
TZNAME:EDT
DTSTART:20250309T070000
END:DAYLIGHT
BEGIN:STANDARD
TZOFFSETFROM:-0400
TZOFFSETTO:-0500
TZNAME:EST
DTSTART:20251102T060000
END:STANDARD
BEGIN:DAYLIGHT
TZOFFSETFROM:-0500
TZOFFSETTO:-0400
TZNAME:EDT
DTSTART:20260308T070000
END:DAYLIGHT
BEGIN:STANDARD
TZOFFSETFROM:-0400
TZOFFSETTO:-0500
TZNAME:EST
DTSTART:20261101T060000
END:STANDARD
BEGIN:DAYLIGHT
TZOFFSETFROM:-0500
TZOFFSETTO:-0400
TZNAME:EDT
DTSTART:20270314T070000
END:DAYLIGHT
BEGIN:STANDARD
TZOFFSETFROM:-0400
TZOFFSETTO:-0500
TZNAME:EST
DTSTART:20271107T060000
END:STANDARD
END:VTIMEZONE
BEGIN:VEVENT
DTSTART;TZID=America/New_York:20260321T093000
DTEND;TZID=America/New_York:20260321T180000
DTSTAMP:20260424T140007
CREATED:20260316T030606Z
LAST-MODIFIED:20260316T030606Z
UID:998-1774085400-1774116000@eerietravels.com
SUMMARY:Georgia Bigfoot Conference & Comicon
DESCRIPTION:Come join the fun all day on Saturday March 21\, 2026!
URL:https://eerietravels.com/event/georgia-bigfoot-conference-comicon/
LOCATION:Big Shoals Junction\, 5312 Hwy 441\, Tiger\, GA\, 30576\, United States
CATEGORIES:Bigfoot,Geeky
ATTACH;FMTTYPE=image/jpeg:https://eerietravels.com/wp-content/uploads/2026/03/RevisedGeorgiaBigfootConference2026-V2.0-600.jpg
END:VEVENT
BEGIN:VEVENT
DTSTART;TZID=America/New_York:20260221T100000
DTEND;TZID=America/New_York:20260221T180000
DTSTAMP:20260424T140007
CREATED:20260203T045346Z
LAST-MODIFIED:20260203T045438Z
UID:952-1771668000-1771696800@eerietravels.com
SUMMARY:WNC ComiCon
DESCRIPTION:Incredible Speakers * Comics * Toys * Cards * Games * Fan Art * Authors * Cool Vendors * Lightsabers * Gaming\nFeatured Speakers:Eerie TravelsBigfoot in Appalachia\nJessica JonesThe Cryptid Huntress\nMatt DelphBigfoot Experiencer\nWilderness Cryptid StudiesParanormal Adventures\nJohn PriceAlabama MUFON\nJames EverettThe James Everett Show\nDr. John StameyParanormal Author
URL:https://eerietravels.com/event/wnc-comicon/
LOCATION:AK Hinds University Center\, 350 Memorial Dr\, Cullowhee\, NC\, 28723\, United States
CATEGORIES:Bigfoot,Geeky
ATTACH;FMTTYPE=image/jpeg:https://eerietravels.com/wp-content/uploads/2026/02/WNCcomicon.jpg
END:VEVENT
BEGIN:VEVENT
DTSTART;TZID=America/New_York:20251004T100000
DTEND;TZID=America/New_York:20251004T180000
DTSTAMP:20260424T140007
CREATED:20250908T183133Z
LAST-MODIFIED:20250908T183738Z
UID:848-1759572000-1759600800@eerietravels.com
SUMMARY:Bigfoot ComiCon Franklin
DESCRIPTION:Great fun with Bigfoot Talks and Comicon Vendors! \n 
URL:https://eerietravels.com/event/bigfoot-comiccon-franklin/
LOCATION:The Factory\, 1024 Georgia Road\, Franklin\, NC\, 28734\, United States
CATEGORIES:Bigfoot,Geeky
ATTACH;FMTTYPE=image/jpeg:https://eerietravels.com/wp-content/uploads/2025/03/481161797_1169877151593020_497583047960639465_n.jpg
END:VEVENT
BEGIN:VEVENT
DTSTART;TZID=America/New_York:20250913T120000
DTEND;TZID=America/New_York:20250913T190000
DTSTAMP:20260424T140007
CREATED:20250908T175227Z
LAST-MODIFIED:20250908T175227Z
UID:839-1757764800-1757790000@eerietravels.com
SUMMARY:Carter County Bigfoot Fest 2025
DESCRIPTION:The Carter County Bigfoot Research Group is excited to announce the first Carter County Bigfoot Fest. Come join us September 13\, 2025\, 12-7pm\, at the Olive Hill Depo. Food trucks & Vendors can contact Nikki Middleton DeHart or me on Facebook.Hopefully we’ll have a good line up of guest speakers. Also live Music\, Bigfoot costume competition\, Bigfoot call competition\, & more. So come out and share your Bigfoot sighting with Olive Hill.\n140 Rail Road StreetOlive hill Ky 41164\nFREE event\, any proceeds will go to Meals on Wheels in Carter county.
URL:https://eerietravels.com/event/carter-county-bigfoot-fest-2025/
LOCATION:Olive Hill Welcome Center\, 140 Railroad St\, Olive Hill\, KY\, 41164\, United States
CATEGORIES:Bigfoot
ATTACH;FMTTYPE=image/jpeg:https://eerietravels.com/wp-content/uploads/2025/09/514278431_24662978829975698_6376796285302443235_n.jpg
END:VEVENT
BEGIN:VEVENT
DTSTART;TZID=America/New_York:20250823T100000
DTEND;TZID=America/New_York:20250823T170000
DTSTAMP:20260424T140007
CREATED:20250420T215001Z
LAST-MODIFIED:20250420T215001Z
UID:673-1755943200-1755968400@eerietravels.com
SUMMARY:WNC Bigfoot Festival
DESCRIPTION:Come a skeptic. Leave a believer.
URL:https://eerietravels.com/event/wnc-bigfoot-festival/
LOCATION:Main Street Downtown Marion\, Marion\, NC\, 28752\, United States
CATEGORIES:Bigfoot
ATTACH;FMTTYPE=image/jpeg:https://eerietravels.com/wp-content/uploads/2025/04/275144354_3164746257141416_5879802106468653707_n.jpg
END:VEVENT
BEGIN:VEVENT
DTSTART;TZID=America/New_York:20250816T090000
DTEND;TZID=America/New_York:20250816T190000
DTSTAMP:20260424T140007
CREATED:20250420T215514Z
LAST-MODIFIED:20250624T184901Z
UID:677-1755334800-1755370800@eerietravels.com
SUMMARY:TN Wildman and Cryptid Con
DESCRIPTION:Join us\, Saturday\, August 16th 2025 for a day of Guest Speakers and Experiencers on many varied cryptid topics – ranging from Bigfoot to Dogman to UFOs and more\, as well as our expansive Vendor Hall where you’ll be able to find all the Bigfoot and Cryptid related merchandise for your wants and needs!
URL:https://eerietravels.com/event/tn-wildman-and-cryptid-con/
LOCATION:Milner Recreation Center\, 500 Garfield Street\, McMinnville\, TN\, 37110\, United States
CATEGORIES:Bigfoot,Cryptid
ATTACH;FMTTYPE=image/jpeg:https://eerietravels.com/wp-content/uploads/2025/04/https___cdn.evbuc_.com_images_910292673_1318191507163_1_original-1-copy.jpg
END:VEVENT
BEGIN:VEVENT
DTSTART;TZID=America/New_York:20250726T090000
DTEND;TZID=America/New_York:20250726T180000
DTSTAMP:20260424T140007
CREATED:20250326T040558Z
LAST-MODIFIED:20250326T040558Z
UID:611-1753520400-1753552800@eerietravels.com
SUMMARY:Smoky Mountain Bigfoot Conference
DESCRIPTION:The Smoky Mountain Bigfoot Conference is renowned for bringing together some of the most knowledgeable and engaging voices in the world of Sasquatch research\, cryptozoology\, and the unexplained. Each year\, our speakers share their expertise\, incredible stories\, and cutting-edge findings\, offering attendees an unparalleled opportunity to learn from the best in the field. In addition to their presentations\, our speakers host booths where you can meet them\, ask questions\, and explore their work up close\, creating a truly immersive and interactive experience.
URL:https://eerietravels.com/event/smoky-mountain-bigfoot-conference-2/
LOCATION:Gatlinburg Convention Center\, 234 Historic Nature Trail\, Gatlinburg\, TN\, 37738\, United States
CATEGORIES:Bigfoot
ATTACH;FMTTYPE=image/png:https://eerietravels.com/wp-content/uploads/2025/03/SMBC-Logo-Deep.png
END:VEVENT
BEGIN:VEVENT
DTSTART;TZID=America/New_York:20250405T090000
DTEND;TZID=America/New_York:20250405T180000
DTSTAMP:20260424T140007
CREATED:20250326T023354Z
LAST-MODIFIED:20250326T025348Z
UID:590-1743843600-1743876000@eerietravels.com
SUMMARY:Great Florida Bigfoot Conference
DESCRIPTION:Uncover the Mystery Behind One of America’s Greatest Legends! \nPrepare for an unforgettable experience at the fifth annual Great Florida Bigfoot Conference\, happening soon at the World Equestrian Center in Ocala\, FL (Expo 2) April 5\, 2025. \n\n\n\n\n\n\nFrom 9 am to 6 pm\, attendees will be treated to presentations from leading Bigfoot researchers\, investigators\, and authors\, each sharing their latest findings\, theories\, and experiences. Whether you’re a seasoned enthusiast or new to the search for Sasquatch\, you’ll have the opportunity to ask questions\, engage in discussions\, and network with others who share your passion. \nTo ensure you don’t miss out\, we highly recommend purchasing tickets in advance. Your ticket provides all-day access to the conference\, giving you the freedom to come and go as you please throughout the event. \nFor those seeking an even more exclusive experience\, our VIP ticket holders will enjoy premium seating in the center of the front rows\, along with access to a special Meet & Greet Dinner on the eve of the event. This intimate gathering is your chance to meet the speakers up close\, ask questions in a relaxed setting\, and enjoy a memorable evening with fellow Bigfoot enthusiasts.
URL:https://eerietravels.com/event/great-florida-bigfoot-conference/
LOCATION:World Equestrian Center\, 1750 NW 80th Ave\, Ocala\, FL\, 34482\, United States
CATEGORIES:Bigfoot
ATTACH;FMTTYPE=image/png:https://eerietravels.com/wp-content/uploads/2025/03/GFBC22-Conference-T-Shirt-Bigfoot-Gator.png
END:VEVENT
BEGIN:VEVENT
DTSTART;TZID=America/New_York:20250326T030000
DTEND;TZID=America/New_York:20250326T050000
DTSTAMP:20260424T140007
CREATED:20250326T212816Z
LAST-MODIFIED:20250326T212816Z
UID:622-1742958000-1742965200@eerietravels.com
SUMMARY:Coast to Coast AM Radio Show appearance
DESCRIPTION:On hour 3 and 4 of the show. \nIn the latter half\, sci-fi and horror author Mark Muncy shared his passion for Appalachian folklore\, cryptids\, and eerie legends surrounding the Smoky Mountains (view related illustrations). His research methodology involves collaborating with historians\, Cherokee storytellers\, and paranormal investigators\, piecing together folklore with historical facts. “The Appalachians are probably one of the darkest places on the planet\,” he stated\, highlighting the mountains’ ancient history and the haunting stories that emerge from the region. He recounted the “Lightning Lady” tale from Cades Cove\, where two brides in the same house were struck by lightning\, and delved into various entities from Cherokee mythology\, such as Spear Finger\, a shape-shifting witch known for stealing livers and the “Moon-Eyed People\,” a mysterious pale-skinned race said to live in caves. \nAnother captivating tale he shared was about the “Boojum\,” a legendary wild man or Sasquatch who was said to have lived in the Smokies. The settler version tells of a creature who dug for gems to win the love of a hotel worker named Annie\, while the Cherokee version adds depth\, with the creature trading gems for moonshine\, and wearing a hat given to him by the tribe. The discussion turned to ghost stories\, including Dark Aggie\, a terrifying entity with a skeletal face seen by many ghost hunters in the Old Gray Cemetery in Knoxville\, the haunting of Lucy from the Roaring Fork area– a hitchhiking ghost who tragically died in a fire\, and the apparition of Zelda Fitzgerald\, who reportedly wanders the grounds of a former mental health facility in Asheville.
URL:https://eerietravels.com/event/coast-to-coast-am-radio-show-appearance/
LOCATION:Online
CATEGORIES:Bigfoot,Cryptid,Paranormal
ATTACH;FMTTYPE=image/jpeg:https://eerietravels.com/wp-content/uploads/2025/03/353030865_632692762226576_680788818762640308_n.jpg
END:VEVENT
BEGIN:VEVENT
DTSTART;TZID=America/New_York:20250322T090000
DTEND;TZID=America/New_York:20250322T180000
DTSTAMP:20260424T140007
CREATED:20250326T022513Z
LAST-MODIFIED:20250326T025325Z
UID:586-1742634000-1742666400@eerietravels.com
SUMMARY:Georgia Bigfoot Conference
DESCRIPTION:Talks and Vendors.\n2025 Conference Locations: Friday 3/21\, our event will be held at R.M. Rose Distillery\, 1896 Dicks Hill Parkway\, Mt. Airy\, GA. Saturday 3/22\, the Conference will be held at the Student Commons\, Piedmont University\, 375 Georgia St.\, Demorest\, GA. See you there!
URL:https://eerietravels.com/event/georgia-bigfoot-conference-2/
LOCATION:Piedmont University- Commons\, 1021 Central Ave\, Demorest\, GA\, 30535\, United States
CATEGORIES:Bigfoot
ATTACH;FMTTYPE=image/jpeg:https://eerietravels.com/wp-content/uploads/2025/03/481161797_1169877151593020_497583047960639465_n.jpg
END:VEVENT
END:VCALENDAR