BEGIN:VCALENDAR
VERSION:2.0
PRODID:-//Eerie Travels - ECPv6.15.20//NONSGML v1.0//EN
CALSCALE:GREGORIAN
METHOD:PUBLISH
X-ORIGINAL-URL:https://eerietravels.com
X-WR-CALDESC:Events for Eerie Travels
REFRESH-INTERVAL;VALUE=DURATION:PT1H
X-Robots-Tag:noindex
X-PUBLISHED-TTL:PT1H
BEGIN:VTIMEZONE
TZID:America/New_York
BEGIN:DAYLIGHT
TZOFFSETFROM:-0500
TZOFFSETTO:-0400
TZNAME:EDT
DTSTART:20250309T070000
END:DAYLIGHT
BEGIN:STANDARD
TZOFFSETFROM:-0400
TZOFFSETTO:-0500
TZNAME:EST
DTSTART:20251102T060000
END:STANDARD
BEGIN:DAYLIGHT
TZOFFSETFROM:-0500
TZOFFSETTO:-0400
TZNAME:EDT
DTSTART:20260308T070000
END:DAYLIGHT
BEGIN:STANDARD
TZOFFSETFROM:-0400
TZOFFSETTO:-0500
TZNAME:EST
DTSTART:20261101T060000
END:STANDARD
BEGIN:DAYLIGHT
TZOFFSETFROM:-0500
TZOFFSETTO:-0400
TZNAME:EDT
DTSTART:20270314T070000
END:DAYLIGHT
BEGIN:STANDARD
TZOFFSETFROM:-0400
TZOFFSETTO:-0500
TZNAME:EST
DTSTART:20271107T060000
END:STANDARD
END:VTIMEZONE
BEGIN:VEVENT
DTSTART;TZID=America/New_York:20260411T140000
DTEND;TZID=America/New_York:20260412T200000
DTSTAMP:20260424T130641
CREATED:20260204T054825Z
LAST-MODIFIED:20260204T054825Z
UID:973-1775916000-1776024000@eerietravels.com
SUMMARY:HauntFest April Ghouls
DESCRIPTION:Welcome to HauntFest\, where we summon the spirit of horror and Halloween all year round! Immerse yourself in the macabre delights of live music\, art vendors\, spine-chilling entertainment\, and bewitching activities. This fiendish affair beckons dark spirits\, midnight wanderers\, witchy souls\, and the eternally restless. Join us for our 4th annual Athens\, GA event at Terrapin Beer Co in April 2026! As always\, it will be to DIE for…
URL:https://eerietravels.com/event/hauntfest-april-ghouls/
LOCATION:Terrapin Beer Co\, 265 Newton Bridge Rd.\, Athens\, GA\, 30607\, United States
CATEGORIES:Horror
ATTACH;FMTTYPE=image/jpeg:https://eerietravels.com/wp-content/uploads/2026/02/20314-ticket-rmswj2x13n0x1747086758-300-1.jpg
END:VEVENT
END:VCALENDAR